{"text_format":"1","workbook":"xlsx","n_sheets":2,"sheets":["Invoerblad","Uitslagformulier"],"not_rendered":{"charts":0,"images":1,"macros":0,"external_links":0,"defined_names":0,"comments":0,"pivot_tables":0},"unopened":[],"bounds":{"document_bytes":16777216,"sheet_cells":100000,"rows_first":2000,"rows_last":500,"rows_between":2000,"halvings":0,"cell_chars":16384,"cell_head_chars":4096},"cells_cut":0,"cells_raw":0,"read":"whole","date_system":"1900"}

{"sheet":"Invoerblad","index":0,"n_rows":58,"n_cols":51,"rows_kept":58,"cut":false,"hidden":false,"merged":[[8,2,9,2],[8,1,9,1],[6,1,6,5],[1,4,1,5],[2,4,2,5],[3,4,3,5],[4,4,4,5],[6,6,6,11],[21,9,21,10],[8,3,9,4],[0,20,0,22],[10,20,10,22],[20,20,20,22],[1,6,1,9],[2,6,2,9],[3,6,3,9],[4,6,4,9],[20,9,20,10],[10,8,10,9],[11,8,11,9],[12,8,12,9],[29,20,29,22],[22,9,22,10],[24,9,24,10],[41,9,41,10],[38,9,38,10],[37,9,37,10],[35,9,35,10],[34,9,34,10],[33,9,33,10],[25,9,25,10],[40,9,40,10],[27,9,27,10],[28,9,28,10],[48,10,48,12],[43,9,43,10],[44,9,44,10],[30,9,30,10],[31,9,31,10]]}
[null,null,null," ",null,null,null,null,null,null,null,null,null,null,null,null,null,null,null,null,"aantal partijen gespeeld",null,null,null,null,null,null,null,null,null,null,null,null,null,null,null,null,null,null,null,null,null,null,null,null,null,null,null,null,null," "]
[null,null,null,null,"Voorronde PK:",null,null,null,null,null,null,null,null,null,null,null,null,null,1,{"$f":"IF(E22>0,1,FALSE)","v":1},{"$f":"IF(E28>0,1,FALSE)","v":1},{"$f":"IF(E35>0,1,FALSE)","v":1},{"$f":"IF(E41>0,1,FALSE)","v":1},{"$f":"SUM(T2:W2)","v":4},{"$f":"PRODUCT(F11,X2)","v":4}]
[null,null,null,null,"Data:",null,null,null,null,null,null,null,null,null,null,null,null,null,2,{"$f":"IF(M22>0,1,FALSE)","v":1},{"$f":"IF(M28>0,1,FALSE)","v":1},{"$f":"IF(M35>0,1,FALSE)","v":1},{"$f":"IF(M41>0,1,FALSE)","v":1},4,{"$f":"PRODUCT(F12,X3)","v":4}]
[null,null,null,null,"Locatie:",null,null,null,null,null,null,null,null,null,null,null,null,null,3,{"$f":"IF(E25>0,1,FALSE)","v":1},{"$f":"IF(E31>0,1,FALSE)","v":1},{"$f":"IF(E38>0,1,FALSE)","v":1},{"$f":"IF(E44>0,1,FALSE)","v":1},4,4]
[null,null,null,null,"Wedstrijdleider:",null,null,null,null,null,null,null,null,null,null,null,null,null,4,{"$f":"IF(M25>0,1,FALSE)","v":1},{"$f":"IF(M31>0,1,FALSE)","v":1},{"$f":"IF(M38>0,1,FALSE)","v":1},{"$f":"IF(M42>0,1,FALSE)","v":1},4,4]
[null,null,null,null,null,null,null,null,null,null,null,null,null,null,null,null,null,null,5,{"$f":"IF(M26>0,1,FALSE)","v":1},{"$f":"IF(E32>0,1,FALSE)","v":1},{"$f":"IF(M36>0,1,FALSE)","v":1},{"$f":"IF(E42>0,1,FALSE)","v":1},4,4]
[null,"NAMEN INVULLEN VOLGORDE UITNODIGING",null,null,null,null,"UITSLUITEND DE GELE VLAKKEN INVULLEN !",null,null,null,null,null,null,null,null,null,null,null,6,{"$f":"IF(E26>0,1,FALSE)","v":1},{"$f":"IF(M29>0,1,FALSE)","v":1},{"$f":"IF(E36>0,1,FALSE)","v":1},{"$f":"IF(M44>0,1,FALSE)","v":1},4,4]
[null,null,null,null,null,null,null,null,null,null,null,null,null,null,null,null,null,null,7,{"$f":"IF(M23>0,1,FALSE)","v":1},{"$f":"IF(E29>0,1,FALSE)","v":1},{"$f":"IF(M39>0,1,FALSE)","v":1},{"$f":"IF(E45>0,1,FALSE)","v":1},{"$f":"SUM(T8:W8)","v":4},4]
[null,"Bondsnr","Naam","Vereniging",null,"te maken","aanvangs","Officieel",null,null,null,null,null,null,null,null,null,null,8,{"$f":"IF(E23>0,1,FALSE)","v":1},{"$f":"IF(M32>0,1,FALSE)","v":1},{"$f":"IF(E39>0,1,FALSE)","v":1},{"$f":"IF(M45>0,1,FALSE)","v":1},{"$f":"SUM(T9:W9)","v":4},{"$f":"PRODUCT(F18,X9)","v":4}]
[null,null,null,null,null,"car.","moy.","Moyenne"]
[null,null," ",null,null,null,null,null,"Carambole systeem:",null,"Interval","Car.",null,null,null,null,null,null,null,null,"partij moyenne"]
[null,null," ",null,null,null,null,null,"Max. beurten:",null,60,"Brt.",null,null,null,null,null,null,1,{"$f":"IF(H22>0,G22,0)","v":0},{"$f":"IF(H28>0,G28,0)","v":0},{"$f":"IF(H35>0,G35,0)","v":0},{"$f":"IF(H41>0,G41,0)","v":0},{"$f":"MAX(T12:W12)","v":0}]
[null,null," ",null,null,null,null,null,"Te spelen partijen:",null,4,"Parijen",null,null,null,null,null,null,2,{"$f":"IF(P22>0,O22,0)","v":0},{"$f":"IF(P28>0,O28,0)","v":0},{"$f":"IF(P35>0,O35,0)","v":0},{"$f":"IF(P41>0,O41,0)","v":0},{"$f":"MAX(T13:W13)","v":0}]
[null,null," ",null,null,null,null,null,null,null,null,null,null,null,null,null,null,null,3,{"$f":"IF(H25>0,G25,0)","v":0},{"$f":"IF(H31>0,G31,0)","v":0},{"$f":"IF(H38>0,G38,0)","v":0},{"$f":"IF(H44>0,G44,0)","v":0},0]
[null,null," ",null,null,null,null,null,null,null,null,null," ",null,null,null,null,null,4,{"$f":"IF(P25>0,O25,0)","v":0},{"$f":"IF(P31>0,O31,0)","v":0},{"$f":"IF(P38>0,O38,0)","v":0},{"$f":"IF(P42>0,O42,0)","v":0},0]
[null,null," ",null,null,null,null,null,null,null,null,null,null,null,null,null,null,null,5,{"$f":"IF(P26>0,O26,0)","v":0},{"$f":"IF(H32>0,G32,0)","v":0},{"$f":"IF(P36>0,O36,0)","v":0},{"$f":"IF(H42>0,G42,0)","v":0},0]
[null,null," ",null,null,null,null,null,null,null,null,null,null,null,null,null,null,null,6,{"$f":"IF(P29>0,O29,0)","v":0},{"$f":"IF(P29>0,O29,0)","v":0},{"$f":"IF(H36>0,G36,0)","v":0},{"$f":"IF(P44>0,O44,0)","v":0},0]
[null,null," ",null,null,null,null,null,null,null,null,null,null,null,null,null,null,null,7,{"$f":"IF(P23>0,O23,0)","v":0},{"$f":"IF(H29>0,G29,0)","v":0},{"$f":"IF(P39>0,O39,0)","v":0},{"$f":"IF(H45>0,G45,0)","v":0},0]
[null,null,null,null,null,null,null,null,null,null,null,null,null,null,null,null,null,null,8,{"$f":"IF(H23>0,G23,0)","v":0},{"$f":"IF(P32>0,O32,0)","v":0},{"$f":"IF(H39>0,G39,0)","v":0},{"$f":"IF(P44>0,O44,0)","v":0},0,null,null,null,null,null,null,null,null,"Partij","Car %",null,null,"Interval pnt. bij max. brt."]
[null,"Partijen:",null,null,null,null,null,null,null,null,null,null,null,null,null,null,null,null,null,null,null,null,null,null,null,null,null,null,null,null,null,null,null,null,null,null,null,null,null,1,"-",8]
[null,null,"Naam","Car.","Brt.","HS","Moy.","Pnt.",null,"Naam",null,"Car.","Brt.","HS","Moy.","Pnt.",null,null,null,null,"partijen gewonnen",null,null,null,null,null,null,null,null,null,null,null,1,{"$f":"ROUNDDOWN(D22/F11,3)","v":{"$error":"#DIV/0!"}},"-",{"$f":"ROUNDDOWN(D23/F18,3)","v":{"$error":"#VALUE!"}},{"$f":"IF(AH21<AJ21,0,IF(AH21>AJ21,2,1))","v":{"$error":"#DIV/0!"}},{"$f":"IF(AJ21<AH21,0,IF(AJ21>AH21,2,1))","v":{"$error":"#VALUE!"}},null,2,"-",7]
[null,null,{"$f":"C11","v":" "},null," ","  ",{"$f":"ROUNDDOWN(D22/E22,3)","v":{"$error":"#VALUE!"}},{"$f":"IF(AND(E22=K12,D22<F11,D23<F18),AK21,      IF(AND(D22=F11,D23<F18),2,IF(AND(D22=F11,D23=F18),1,0)))","v":0},null,{"$f":"C12","v":" "},null," "," ",null,{"$f":"ROUNDDOWN(L22/M22,3)","v":{"$error":"#VALUE!"}},{"$f":"IF(AND(M22=K12,L22<F12,L23<F17),AK22,      IF(AND(L22=F12,L23<F17),2,IF(AND(L22=F12,L23=F17),1,0)))","v":0},null,null,1,{"$f":"IF(H22>1,1,0)","v":0},{"$f":"IF(H28>1,1,0)","v":0},{"$f":"IF(H35>1,1,0)","v":0},{"$f":"IF(H41>1,1,0)","v":0},{"$f":"SUM(T22:W22)","v":0},null,{"$f":"IF(D22=F11,1,0)","v":1},{"$f":"IF(D23<F18,1,0)","v":0},{"$f":"SUM(Z22:AA22)","v":1},{"$f":"IF(L22=F12,1,0)","v":0},{"$f":"IF(L23<F17,1,0)","v":0},{"$f":"SUM(AC22:AD22)","v":0},null,2,{"$f":"ROUNDDOWN(L22/F12,3)","v":{"$error":"#VALUE!"}},"-",{"$f":"ROUNDDOWN(L22/F12,3)","v":{"$error":"#VALUE!"}},{"$error":"#VALUE!"},{"$error":"#VALUE!"},null,3,"-",6]
[null,null,{"$f":"C18","v":" "}," ",{"$f":"E22","v":" "}," ",{"$error":"#VALUE!"},{"$f":"IF(AND(E23=K12,D23<F18,D22<F11),AL21,      IF(AND(D23=F18,D22<F11),2,IF(AND(D23=F18,D22=F11),1,0)))","v":0},null,{"$f":"C17","v":" "},null," ",{"$f":"M22","v":" "},null,{"$error":"#VALUE!"},{"$f":"IF(AND(M23=K12,L23<F17,L22<F12),AL22,      IF(AND(L23=F17,L22<F12),2,IF(AND(L23=F17,L22=F12),1,0)))","v":0},null,null,2,{"$f":"IF(P22>1,1,0)","v":0},{"$f":"IF(P28>1,1,0)","v":0},{"$f":"IF(P35>1,1,0)","v":0},{"$f":"IF(P41>1,1,0)","v":0},{"$f":"SUM(T23:W23)","v":0},null,{"$f":"IF(D23=F18,1,0)","v":0},{"$f":"IF(D22<F11,1,0)","v":0},{"$f":"SUM(Z23:AA23)","v":0},{"$f":"IF(L23=F17,1,0)","v":0},{"$f":"IF(L22<F12,1,0)","v":0},{"$f":"SUM(AC23:AD23)","v":0},null,3,{"$f":"ROUNDDOWN(D25/F13,3)","v":{"$error":"#VALUE!"}},"-",{"$f":"ROUNDDOWN(D26/F16,3)","v":{"$error":"#VALUE!"}},{"$error":"#VALUE!"},{"$error":"#VALUE!"},null,4,"-",5]
[null,null,null,null,null,null,null,null,null,null,null,null," ",null,null,null,null,null,3,{"$f":"IF(H25>1,1,0)","v":0},{"$f":"IF(H31>1,1,0)","v":0},{"$f":"IF(H38>1,1,0)","v":0},{"$f":"IF(H38>1,1,0)","v":0},0,null,null,null,null,null,null,null,null,4,{"$f":"ROUNDDOWN(L25/F14,3)","v":{"$error":"#VALUE!"}},"-",{"$f":"ROUNDDOWN(L26/F15,3)","v":{"$error":"#VALUE!"}},{"$error":"#VALUE!"},{"$error":"#VALUE!"},null,1,"-",7]
[null,null,{"$f":"C13","v":" "}," "," "," ",{"$f":"ROUNDDOWN(D25/E25,3)","v":{"$error":"#VALUE!"}},{"$f":"IF(AND(E25=K12,D25<F13,D26<F16),AK23,      IF(AND(D25=F13,D26<F16),2,IF(AND(D25=F13,D26=F16),1,0)))","v":0},null,{"$f":"C14","v":" "},null," "," ",null,{"$f":"ROUNDDOWN(L25/M25,3)","v":{"$error":"#VALUE!"}},{"$f":"IF(AND(M25=K12,L25<F14,L26<F15),AK24,      IF(AND(L25=F14,L26<F15),2,IF(AND(L25=F14,L26=F15),1,0)))","v":0},null,null,4,{"$f":"IF(P25>1,1,0)","v":0},{"$f":"IF(P31>1,1,0)","v":0},{"$f":"IF(P38>1,1,0)","v":0},{"$f":"IF(P42>1,1,0)","v":0},0,null,{"$f":"IF(D25=F13,1,0)","v":0},{"$f":"IF(D26<F16,1,0)","v":0},{"$f":"SUM(Z25:AA25)","v":0},{"$f":"IF(L25=F14,1,0)","v":0},{"$f":"IF(L26<F15,1,0)","v":0},0,null,5,{"$f":"ROUNDDOWN(D28/F11,3)","v":{"$error":"#VALUE!"}},"-",{"$f":"ROUNDDOWN(D29/F17,3)","v":{"$error":"#VALUE!"}},{"$error":"#VALUE!"},{"$error":"#VALUE!"},null,2,"-",6]
[null,null,{"$f":"C16","v":" "}," ",{"$f":"E25","v":" "}," ",{"$error":"#VALUE!"},{"$f":"IF(AND(E26=K12,D26<F16,D25<F13),AL23,      IF(AND(D26=F16,D25<F13),2,IF(AND(D26=F16,D25=F13),1,0)))","v":0},null,{"$f":"C15","v":" "},null," ",{"$f":"M25","v":" "},null,{"$error":"#VALUE!"},{"$f":"IF(AND(M26=K12,L26<F15,L25<F14),AL24,      IF(AND(L26=F15,L25<F14),2,IF(AND(L26=F15,L25=F14),1,0)))","v":0},null,null,5,{"$f":"IF(P26>1,1,0)","v":0},{"$f":"IF(H32>1,1,0)","v":0},{"$f":"IF(P36>1,1,0)","v":0},{"$f":"IF(H42>1,1,0)","v":0},0,null,{"$f":"IF(D26=F16,1,0)","v":0},{"$f":"IF(D25<F13,1,0)","v":0},{"$f":"SUM(Z26:AA26)","v":0},{"$f":"IF(L26=F15,1,0)","v":0},{"$f":"IF(L25<F14,1,0)","v":0},0,null,6,{"$f":"ROUNDDOWN(L28/F12,3)","v":{"$error":"#VALUE!"}},"-",{"$f":"ROUNDDOWN(L29/F16,3)","v":{"$error":"#VALUE!"}},{"$error":"#VALUE!"},{"$error":"#VALUE!"},null,3,"-",5]
[null,null,null,null,null,null,null,null,null,null,null,null,null,null,null,null,null,null,6,{"$f":"IF(H26>1,1,0)","v":0},{"$f":"IF(P29>1,1,0)","v":0},{"$f":"IF(H36>1,1,0)","v":0},{"$f":"IF(P44>1,1,0)","v":0},0,null,null,null,null,null,null,null,null,7,{"$f":"ROUNDDOWN(D32/F15,3)","v":{"$error":"#VALUE!"}},"-",{"$f":"ROUNDDOWN(D32/F15,3)","v":{"$error":"#VALUE!"}},{"$error":"#VALUE!"},{"$error":"#VALUE!"},null,4,"-",8]
[null,null,{"$f":"C11","v":" "}," "," "," ",{"$f":"ROUNDDOWN(D28/E28,3)","v":{"$error":"#VALUE!"}},{"$f":"IF(AND(E28=K12,D28<F11,D29<F17),AK25,      IF(AND(D28=F11,D29<F17),2,IF(AND(D28=F11,D29=F17),1,0)))","v":0},null,{"$f":"C12","v":" "},null," "," ",null,{"$f":"ROUNDDOWN(L28/M28,3)","v":{"$error":"#VALUE!"}},{"$f":"IF(AND(M28=K12,L28<F12,L29<F16),AK26,      IF(AND(L28=F12,L29<F16),2,IF(AND(L28=F12,L29=F16),1,0)))","v":0},null,null,7,{"$f":"IF(P23>1,1,0)","v":0},{"$f":"IF(H29>1,1,0)","v":0},{"$f":"IF(P39>1,1,0)","v":0},{"$f":"IF(H45>1,1,0)","v":0},0,null,{"$f":"IF(D28=F11,1,0)","v":0},{"$f":"IF(D29<F17,1,0)","v":0},{"$f":"SUM(Z28:AA28)","v":0},{"$f":"IF(L28=F12,1,0)","v":0},{"$f":"IF(L29<F16,1,0)","v":0},0,null,8,{"$f":"ROUNDDOWN(L31/F14,3)","v":{"$error":"#VALUE!"}},"-",{"$f":"ROUNDDOWN(L32/F18,3)","v":{"$error":"#VALUE!"}},{"$error":"#VALUE!"},{"$error":"#VALUE!"},null,1,"-",6]
[null,null,{"$f":"C17","v":" "}," ",{"$f":"E28","v":" "}," ",{"$error":"#VALUE!"},{"$f":"IF(AND(E29=K12,D29<F17,D28<F11),AL25,      IF(AND(D29=F17,D28<F11),2,IF(AND(D29=F17,D28=F11),1,0)))","v":0},null,{"$f":"C16","v":" "},null," ",{"$f":"M28","v":" "},null,{"$error":"#VALUE!"},{"$f":"IF(AND(M29=K12,L29<F16,L28<F12),AL26,      IF(AND(L29=F16,L28<F12),2,IF(AND(L29=F16,L28=F12),1,0)))","v":0},null,null,8,{"$f":"IF(H23>1,1,0)","v":0},{"$f":"IF(P32>1,1,0)","v":0},{"$f":"IF(H39>1,1,0)","v":0},{"$f":"IF(P45>1,1,0)","v":0},0,null,{"$f":"IF(D29=F17,1,0)","v":0},{"$f":"IF(D28<F11,1,0)","v":0},{"$f":"SUM(Z29:AA29)","v":0},{"$f":"IF(L29=F16,1,0)","v":0},{"$f":"IF(L28<F12,1,0)","v":0},0,null,9,{"$f":"ROUNDDOWN(D35/F11,3)","v":{"$error":"#DIV/0!"}},"-",{"$f":"ROUNDDOWN(D36/F16,3)","v":{"$error":"#VALUE!"}},{"$error":"#DIV/0!"},{"$error":"#VALUE!"},null,2,"-",5]
[null,null,null,null,null,null,null,null,null,null,null,null,null,null,null,null,null,null,null,null,"partijen gelijk",null,null,null,null,null,null,null,null,null,null,null,10,{"$f":"ROUNDDOWN(L35/F12,3)","v":{"$error":"#VALUE!"}},"-",{"$f":"ROUNDDOWN(L36/F15,3)","v":{"$error":"#VALUE!"}},{"$error":"#VALUE!"},{"$error":"#VALUE!"},null,3,"-",8]
[null,null,{"$f":"C13","v":" "}," "," "," ",{"$f":"ROUNDDOWN(D31/E31,3)","v":{"$error":"#VALUE!"}},{"$f":"IF(AND(E31=K12,D31<F13,D32<F15),AK27,      IF(AND(D31=F13,D32<F15),2,IF(AND(D31=F13,D32=F15),1,0)))","v":0},null,{"$f":"C14","v":" "},null," "," ",null,{"$f":"ROUNDDOWN(L31/M31,3)","v":{"$error":"#VALUE!"}},{"$f":"IF(AND(M31=K12,L31<F14,L32<F18),AK28,      IF(AND(L31=F14,L32<F18),2,IF(AND(L31=F14,L32=F18),1,0)))","v":0},null,null,null,null,null,null,null,null,null,{"$f":"IF(D31=F13,1,0)","v":0},{"$f":"IF(D32<F15,1,0)","v":0},{"$f":"SUM(Z31:AA31)","v":0},{"$f":"IF(L31=F14,1,0)","v":0},{"$f":"IF(L32<F18,1,0)","v":0},{"$f":"SUM(AC31:AD31)","v":0},null,11,{"$f":"ROUNDDOWN(D38/F13,3)","v":{"$error":"#VALUE!"}},"-",{"$f":"ROUNDDOWN(D39/F18,3)","v":{"$error":"#VALUE!"}},{"$error":"#VALUE!"},{"$error":"#VALUE!"},null,4,"-",7," "]
[null,null,{"$f":"C15","v":" "}," ",{"$f":"E31","v":" "}," ",{"$error":"#VALUE!"},{"$f":"IF(AND(E32=K12,D32<F15,D31<F13),AL27,      IF(AND(D32=F15,D31<F13),2,IF(AND(D32=F15,D31=F13),1,0)))","v":0},null,{"$f":"C18","v":" "},null," ",{"$f":"M31","v":" "},null,{"$error":"#VALUE!"},{"$f":"IF(AND(M32=K12,L32<F18,L31<F14),AL28,      IF(AND(L32=F18,L31<F14),2,IF(AND(L32=F18,L31=F14),1,0)))","v":0},null,null,1,{"$f":"IF(H22=1,1,0)","v":0},{"$f":"IF(H28=1,1,0)","v":0},{"$f":"IF(H35=1,1,0)","v":0},{"$f":"IF(H41=1,1,0)","v":0},{"$f":"SUM(T32:W32)","v":0},null,{"$f":"IF(D32=F15,1,0)","v":0},{"$f":"IF(D31<F13,1,0)","v":0},{"$f":"SUM(Z32:AA32)","v":0},{"$f":"IF(L32=F18,1,0)","v":0},{"$f":"IF(L31<F14,1,0)","v":0},{"$f":"SUM(AC32:AD32)","v":0},null,12,{"$f":"ROUNDDOWN(L38/F14,3)","v":{"$error":"#VALUE!"}},"-",{"$f":"ROUNDDOWN(L39/F17,3)","v":{"$error":"#VALUE!"}},{"$error":"#VALUE!"},{"$error":"#VALUE!"},null,1,"-",5," "]
[null,null,null,null,null,null,null,null,null,null,null,null,null,null,null,null,null,null,2,{"$f":"IF(P22=1,1,0)","v":0},{"$f":"IF(P28=1,1,0)","v":0},{"$f":"IF(P35=1,1,0)","v":0},{"$f":"IF(P41=1,1,0)","v":0},0,null,null,null,null,null,null,null,null,13,{"$f":"ROUNDDOWN(D41/F11,3)","v":{"$error":"#VALUE!"}},"-",{"$f":"ROUNDDOWN(D42/F15,3)","v":{"$error":"#VALUE!"}},{"$error":"#VALUE!"},{"$error":"#VALUE!"},null,2,"-",4]
[null,null,"Naam","Car.","Brt.","HS","Moy.","Pnt.",null,"Naam",null,"Car.","Brt.","HS","Moy.","Pnt.",null,null,3,{"$f":"IF(H25=1,1,0)","v":0},{"$f":"IF(H31=1,1,0)","v":0},{"$f":"IF(H38=1,1,0)","v":0},{"$f":"IF(H44=1,1,0)","v":0},0,null,null,null,null,null,null,null,null,14,{"$f":"ROUNDDOWN(L41/F12,3)","v":{"$error":"#DIV/0!"}},"-",{"$f":"ROUNDDOWN(L42/F14,3)","v":{"$error":"#VALUE!"}},{"$error":"#DIV/0!"},{"$error":"#VALUE!"},null,3,"-",7]
[null,null,{"$f":"C11","v":" "},null," "," ",{"$f":"ROUNDDOWN(D35/E35,3)","v":{"$error":"#VALUE!"}},{"$f":"IF(AND(E35=K12,D35<F11,D36<F16),AK29,      IF(AND(D35=F11,D36<F16),2,IF(AND(D35=F11,D36=F16),1,0)))","v":0},null,{"$f":"C12","v":" "},null," "," ",null,{"$f":"ROUNDDOWN(L35/M35,3)","v":{"$error":"#VALUE!"}},{"$f":"IF(AND(M35=K12,L35<F12,L36<F15),AK30,      IF(AND(L35=F12,L36<F15),2,IF(AND(L35=F12,L36=F15),1,0)))","v":0},null,null,4,{"$f":"IF(P25=1,1,0)","v":0},{"$f":"IF(P31=1,1,0)","v":0},{"$f":"IF(P38=1,1,0)","v":0},{"$f":"IF(P42=1,1,0)","v":0},0,null,{"$f":"IF(D35=F11,1,0)","v":1},{"$f":"IF(D36<F16,1,0)","v":0},{"$f":"SUM(Z35:AA35)","v":1},{"$f":"IF(L35=F12,1,0)","v":0},{"$f":"IF(L36<F15,1,0)","v":0},0,null,15,{"$f":"ROUNDDOWN(D44/F13,3)","v":{"$error":"#VALUE!"}},"-",{"$f":"ROUNDDOWN(D45/F17,3)","v":{"$error":"#VALUE!"}},{"$error":"#VALUE!"},{"$error":"#VALUE!"},null,6,"-",8]
[null,null,{"$f":"C16","v":" "}," ",{"$f":"E35","v":" "}," ",{"$error":"#VALUE!"},{"$f":"IF(AND(E36=K12,D36<F16,D35<F11),AL29,      IF(AND(D36=F16,D35<F11),2,IF(AND(D36=F16,D35=F11),1,0)))","v":0},null,{"$f":"C15","v":" "},null," ",{"$f":"M35","v":" "},null,{"$error":"#VALUE!"},{"$f":"IF(AND(M36=K12,L36<F15,L35<F12),AL30,      IF(AND(L36=F15,L35<F12),2,IF(AND(L36=F15,L35=F12),1,0)))","v":0},null,null,5,{"$f":"IF(P26=1,1,0)","v":0},{"$f":"IF(H32=1,1,0)","v":0},{"$f":"IF(P36=1,1,0)","v":0},{"$f":"IF(H42=1,1,0)","v":0},0,null,{"$f":"IF(D36=F16,1,0)","v":0},{"$f":"IF(D35<F11,1,0)","v":0},{"$f":"SUM(Z36:AA36)","v":0},{"$f":"IF(L36=F15,1,0)","v":0},{"$f":"IF(L35<F12,1,0)","v":0},0,null,16,{"$f":"ROUNDDOWN(L44/F16,3)","v":{"$error":"#VALUE!"}},"-",{"$f":"ROUNDDOWN(L45/F18,3)","v":{"$error":"#VALUE!"}},{"$error":"#VALUE!"},{"$error":"#VALUE!"}]
[null,null,null,null,null,null,null,null,null,null,null,null,null,null,null,null,null,null,6,{"$f":"IF(H26=1,1,0)","v":0},{"$f":"IF(P29=1,1,0)","v":0},{"$f":"IF(H36=1,1,0)","v":0},{"$f":"IF(P44=1,1,0)","v":0},0]
[null,null,{"$f":"C13","v":" "}," "," "," ",{"$f":"ROUNDDOWN(D38/E38,3)","v":{"$error":"#VALUE!"}},{"$f":"IF(AND(E38=K12,D38<F13,D39<F18),AK31,      IF(AND(D38=F13,D39<F18),2,IF(AND(D38=F13,D39=F18),1,0)))","v":0},null,{"$f":"C14","v":" "},null," "," ",null,{"$f":"ROUNDDOWN(L38/M38,3)","v":{"$error":"#VALUE!"}},{"$f":"IF(AND(M38=K12,L38<F14,L39<F17),AK32,      IF(AND(L38=F14,L39<F17),2,IF(AND(L38=F14,L39=F17),1,0)))","v":0},null,null,7,{"$f":"IF(P23=1,1,0)","v":0},{"$f":"IF(H29=1,1,0)","v":0},{"$f":"IF(P39=1,1,0)","v":0},{"$f":"IF(H45=1,1,0)","v":0},0,null,{"$f":"IF(D38=F13,1,0)","v":0},{"$f":"IF(D39<F18,1,0)","v":0},{"$f":"SUM(Z38:AA38)","v":0},{"$f":"IF(L38=F14,1,0)","v":0},{"$f":"IF(L39<F17,1,0)","v":0},0]
[null,null,{"$f":"C18","v":" "}," ",{"$f":"E38","v":" "}," ",{"$error":"#VALUE!"},{"$f":"IF(AND(E39=K12,D39<F18,D38<F13),AL31,      IF(AND(D39=F18,D38<F13),2,IF(AND(D39=F18,D38=F13),1,0)))","v":0},null,{"$f":"C17","v":" "},null," ",{"$f":"M38","v":" "},null,{"$error":"#VALUE!"},{"$f":"IF(AND(M39=K12,L39<F17,L38<F14),AL32,      IF(AND(L39=F17,L38<F14),2,IF(AND(L39=F17,L38=F1),1,0)))","v":0},null,null,8,{"$f":"IF(H23=1,1,0)","v":0},{"$f":"IF(P32=1,1,0)","v":0},{"$f":"IF(H39=1,1,0)","v":0},{"$f":"IF(P45=1,1,0)","v":0},0,null,{"$f":"IF(D39=F18,1,0)","v":0},{"$f":"IF(D38<F13,1,0)","v":0},{"$f":"SUM(Z39:AA39)","v":0},{"$f":"IF(L39=F17,1,0)","v":0},{"$f":"IF(L38<F14,1,0)","v":0},0]
[null,null,null,null,null,null,null,null,null,null,null,null,null,null,null,null,null,null,null,null,null,null,null," "]
[null,null,{"$f":"C11","v":" "}," "," "," ",{"$f":"ROUNDDOWN(D41/E41,3)","v":{"$error":"#VALUE!"}},{"$f":"IF(AND(E41=K12,D41<F11,D42<F15),AK33,      IF(AND(D41=F11,D42<F15),2,IF(AND(D41=F11,D42=F15),1,0)))","v":0},null,{"$f":"C12","v":" "},null,null," ",null,{"$f":"ROUNDDOWN(L41/M41,3)","v":{"$error":"#VALUE!"}},{"$f":"IF(AND(M41=K12,L41<F12,L42<F14),AK34,      IF(AND(L41=F12,L42<F14),2,IF(AND(L41=F12,L42=F14),1,0)))","v":0},null,null,null,null,null,null,null,null,null,{"$f":"IF(D41=F11,1,0)","v":0},{"$f":"IF(D42<F15,1,0)","v":0},{"$f":"SUM(Z41:AA41)","v":0},{"$f":"IF(L41=F12,1,0)","v":1},{"$f":"IF(L42<F14,1,0)","v":0},1]
[null,null,{"$f":"C15","v":" "}," ",{"$f":"E41","v":" "}," ",{"$error":"#VALUE!"},{"$f":"IF(AND(E42=K12,D42<F15,D41<F11),AL33,      IF(AND(D42=F15,D41<F11),2,IF(AND(D42=F15,D41=F11),1,0)))","v":0},null,{"$f":"C14","v":" "},null," ",{"$f":"M41","v":" "},null,{"$error":"#VALUE!"},{"$f":"IF(AND(M42=K12,L42<F14,L41<F12),AL34,      IF(AND(L42=F14,L41<F12),2,IF(AND(L42=F14,L41=F12),1,0)))","v":0},null,null,null,null,null,null,null,null,null,{"$f":"IF(D42=F15,1,0)","v":0},{"$f":"IF(D41<F11,1,0)","v":0},{"$f":"SUM(Z42:AA42)","v":0},{"$f":"IF(L42=F14,1,0)","v":0},{"$f":"IF(L41<F12,1,0)","v":0},0]
[]
[null,null,{"$f":"C13","v":" "}," "," "," ",{"$f":"ROUNDDOWN(D44/E44,3)","v":{"$error":"#VALUE!"}},{"$f":"IF(AND(E44=K12,D44<F13,D45<F17),AK35,      IF(AND(D44=F13,D45<F17),2,IF(AND(D44=F13,D45=F17),1,0)))","v":0},null,{"$f":"C16","v":" "},null," "," ",null,{"$f":"ROUNDDOWN(L44/M44,3)","v":{"$error":"#VALUE!"}},{"$f":"IF(AND(M44=K12,L44<F16,L45<F18),AK36,      IF(AND(L44=F16,L45<F18),2,IF(AND(L44=F16,L45=F18),1,0)))","v":0},null,null,null,null,null,null,null,null,null,{"$f":"IF(D44=F13,1,0)","v":0},{"$f":"IF(D45<F13,1,0)","v":0},{"$f":"SUM(Z44:AA44)","v":0},{"$f":"IF(L44=F16,1,0)","v":0},{"$f":"IF(L45<F18,1,0)","v":0},{"$f":"SUM(AC44:AD44)","v":0}]
[null,null,{"$f":"C17","v":" "}," ",{"$f":"E44","v":" "}," ",{"$error":"#VALUE!"},{"$f":"IF(AND(E45=K12,D45<F17,D44<F13),AL35,      IF(AND(D45=F17,D44<F13),2,IF(AND(D45=F17,D44=F13),1,0)))","v":0},null,{"$f":"C18","v":" "},null," ",{"$f":"M44","v":" "},null,{"$error":"#VALUE!"},{"$f":"IF(AND(M45=K12,L45<F18,L44<F16),AL36,      IF(AND(L45=F18,L44<F16),2,IF(AND(L45=F18,L44=F16),1,0)))","v":0},null,null,null,null,null,null,null,null,null,{"$f":"IF(D45=E17,1,0)","v":0},{"$f":"IF(D44<F17,1,0)","v":0},{"$f":"SUM(Z45:AA45)","v":0},{"$f":"IF(L45=F18,1,0)","v":0},{"$f":"IF(L44<F16,1,0)","v":0},0]
[null,null,null,null,null," "]
[]
[]
[null,"Stand",null,null,null,null,null,null,null,null,"Plaatsing ",null,null,"Rangking"]
[null,null,null,"Car.","Brt.","HS","Moy.","Pnt.","% moy.","% carb.","Mp.","% moy.","% carb."]
[null,null,{"$f":"C11","v":" "},{"$f":"SUM(D22,D28,D35,D41)","v":0},{"$f":"SUM(E22,E28,E35,E41)","v":0},{"$f":"MAX(F22,F28,F35,F41)","v":0},{"$f":"ROUNDDOWN(D51/E51,3)","v":{"$error":"#DIV/0!"}},{"$f":"SUM(H22,H28,H35,H41)","v":0},{"$f":"IF(OR(ISBLANK(D51),ISBLANK(E51)),\"-\",IF(AND(H11=\"NEE\",G51/G11>1),100,ROUNDDOWN(G51/G11%,2)))","v":{"$error":"#DIV/0!"}},{"$f":"E51/Y2","v":0},null,null,null,{"$f":"SUM(K51:M51)","v":0}]
[null,null," ",{"$f":"SUM(L22,L28,L35,L41)","v":0},{"$f":"SUM(M22,M28,M35,M41)","v":0},{"$f":"MAX(N22,N28,N35,N41)","v":0},{"$f":"ROUNDDOWN(D52/E52,3)","v":{"$error":"#DIV/0!"}},{"$f":"SUM(P22,P28,P35,P41)","v":0},{"$error":"#DIV/0!"},0,null,null,null,{"$f":"SUM(K52:M52)","v":0}]
[null,null," ",{"$f":"SUM(D25,D31,D38,D44)","v":0},{"$f":"SUM(E25,E31,E38,E44)","v":0},{"$f":"MAX(F25,F31,F38,F44)","v":0},{"$error":"#DIV/0!"},{"$f":"SUM(H25,H31,H38,H44)","v":0},{"$error":"#DIV/0!"},0,null,null,null,0]
[null,null," ",{"$f":"SUM(L25,L31,L38,L42)","v":0},{"$f":"SUM(M25,M31,M38,M42)","v":0},{"$f":"MAX(N25,N31,N38,N42)","v":0},{"$error":"#DIV/0!"},{"$f":"SUM(P25,P31,P38,P42)","v":0},{"$error":"#DIV/0!"},0,null,null,null,{"$f":"SUM(K54:M54)","v":0}]
[null,null," ",{"$f":"SUM(L26,D32,L36,D42)","v":0},{"$f":"SUM(M26,E32,M36,E42)","v":0},{"$f":"MAX(N26,F32,N36,F42)","v":0},{"$error":"#DIV/0!"},{"$f":"SUM(P26,H32,P36,H42)","v":0},{"$error":"#DIV/0!"},0,null,null,null,0]
[null,null," ",{"$f":"SUM(D26,L29,D36,L44)","v":0},{"$f":"SUM(E26,M29,E36,M44)","v":0},{"$f":"MAX(F26,N29,F36,N44)","v":0},{"$error":"#DIV/0!"},{"$f":"SUM(H26,P29,H36,P44)","v":0},{"$error":"#DIV/0!"},0,null,null,null,0]
[null,null," ",{"$f":"SUM(L23,D29,L39,D45)","v":0},{"$f":"SUM(M23,E29,M39,E45)","v":0},{"$f":"MAX(N23,F29,N39,F45)","v":0},{"$error":"#DIV/0!"},{"$f":"SUM(P23,H29,P39,H45)","v":0},{"$error":"#DIV/0!"},0,null,null,null,0]
[null,null," ",{"$f":"SUM(D23,L32,D39,L45)","v":0},{"$f":"SUM(E23,M32,E39,M45)","v":0},{"$f":"MAX(F23,N32,F39,N45)","v":0},{"$f":"ROUNDDOWN(D58/E58,3)","v":{"$error":"#DIV/0!"}},{"$f":"SUM(H23,P32,H39,P45)","v":0},{"$error":"#DIV/0!"},0,null,null,null,0]

{"sheet":"Uitslagformulier","index":1,"n_rows":98,"n_cols":15,"rows_kept":98,"cut":false,"hidden":false,"merged":[[23,0,23,3],[23,5,23,8],[30,0,30,3],[30,5,30,8],[26,0,26,3],[27,0,27,3],[28,0,28,3],[29,0,29,3],[24,0,24,3],[24,5,24,8],[26,5,26,8],[27,5,27,8],[28,5,28,8],[1,1,1,4],[1,5,1,9],[13,7,13,9],[14,7,14,9],[14,3,14,6],[13,3,13,6],[2,11,2,13],[32,7,32,8],[33,7,33,8],[34,7,34,8],[31,7,31,8],[29,5,29,8],[24,9,24,10],[25,9,29,10]]}
[]
[null,"Uitslagformulier voorronden ",null,null,null,{"$f":"Invoerblad!G2","v":0}]
[null,null,null,null,null,null,null,null,null,null,null,"Plaatsing ",null,null,"Rangking"]
[null,"Bondsnr.","Naam","Gew.","Remise","Carb.","Brt.","HS.","Pnt.","Moyenne","% moy.","Mp.","% moy.","% carb."]
[null,null,null," "," "]
[1,{"$f":"Invoerblad!B11","v":0},{"$f":"Invoerblad!C11","v":" "},{"$f":"Invoerblad!X22","v":0},{"$f":"Invoerblad!Z32","v":0},{"$f":"Invoerblad!D51","v":0},{"$f":"Invoerblad!E51","v":0},{"$f":"Invoerblad!F51","v":0},{"$f":"Invoerblad!H51","v":0},{"$f":"Invoerblad!G51","v":{"$error":"#DIV/0!"}},{"$f":"Invoerblad!I51/100","v":{"$error":"#DIV/0!"}},{"$f":"Invoerblad!J51/100","v":0},{"$f":"Invoerblad!K51/100","v":0},{"$f":"Invoerblad!L51/100","v":0},{"$f":"Invoerblad!M51/100","v":0}]
[2,{"$f":"Invoerblad!B12","v":0},{"$f":"Invoerblad!C12","v":" "},{"$f":"Invoerblad!X23","v":0},{"$f":"Invoerblad!X33","v":0},{"$f":"Invoerblad!D52","v":0},{"$f":"Invoerblad!E52","v":0},{"$f":"Invoerblad!F52","v":0},{"$f":"Invoerblad!H52","v":0},{"$f":"Invoerblad!G52","v":{"$error":"#DIV/0!"}},{"$f":"Invoerblad!I52/100","v":{"$error":"#DIV/0!"}},{"$f":"Invoerblad!J52/100","v":0},{"$f":"Invoerblad!K52/100","v":0},{"$f":"Invoerblad!L52/100","v":0},{"$f":"Invoerblad!M52/100","v":0}]
[3,{"$f":"Invoerblad!B13","v":0},{"$f":"Invoerblad!C13","v":" "},{"$f":"Invoerblad!X24","v":0},{"$f":"Invoerblad!X34","v":0},{"$f":"Invoerblad!D53","v":0},{"$f":"Invoerblad!E53","v":0},{"$f":"Invoerblad!F53","v":0},{"$f":"Invoerblad!H53","v":0},{"$f":"Invoerblad!G53","v":{"$error":"#DIV/0!"}},{"$f":"Invoerblad!I53/100","v":{"$error":"#DIV/0!"}},{"$f":"Invoerblad!J53/100","v":0},{"$f":"Invoerblad!K53/100","v":0},{"$f":"Invoerblad!L53/100","v":0},{"$f":"Invoerblad!M53/100","v":0}]
[4,{"$f":"Invoerblad!B14","v":0},{"$f":"Invoerblad!C14","v":" "},{"$f":"Invoerblad!X25","v":0},{"$f":"Invoerblad!X35","v":0},{"$f":"Invoerblad!D54","v":0},{"$f":"Invoerblad!E54","v":0},{"$f":"Invoerblad!F54","v":0},{"$f":"Invoerblad!H54","v":0},{"$f":"Invoerblad!G54","v":{"$error":"#DIV/0!"}},{"$f":"Invoerblad!I54/100","v":{"$error":"#DIV/0!"}},{"$f":"Invoerblad!J54/100","v":0},{"$f":"Invoerblad!K54/100","v":0},{"$f":"Invoerblad!L54/100","v":0},{"$f":"Invoerblad!M54/100","v":0}]
[5,{"$f":"Invoerblad!B15","v":0},{"$f":"Invoerblad!C15","v":" "},{"$f":"Invoerblad!X26","v":0},{"$f":"Invoerblad!X36","v":0},{"$f":"Invoerblad!D55","v":0},{"$f":"Invoerblad!E55","v":0},{"$f":"Invoerblad!F55","v":0},{"$f":"Invoerblad!H55","v":0},{"$f":"Invoerblad!G55","v":{"$error":"#DIV/0!"}},{"$f":"Invoerblad!I55/100","v":{"$error":"#DIV/0!"}},{"$f":"Invoerblad!J55/100","v":0},{"$f":"Invoerblad!K55/100","v":0},{"$f":"Invoerblad!L55/100","v":0},{"$f":"Invoerblad!M55/100","v":0}]
[6,{"$f":"Invoerblad!B16","v":0},{"$f":"Invoerblad!C16","v":" "},{"$f":"Invoerblad!X27","v":0},{"$f":"Invoerblad!X37","v":0},{"$f":"Invoerblad!D56","v":0},{"$f":"Invoerblad!E56","v":0},{"$f":"Invoerblad!F56","v":0},{"$f":"Invoerblad!H56","v":0},{"$f":"Invoerblad!G56","v":{"$error":"#DIV/0!"}},{"$f":"Invoerblad!I56/100","v":{"$error":"#DIV/0!"}},{"$f":"Invoerblad!J56/100","v":0},{"$f":"Invoerblad!K56/100","v":0},{"$f":"Invoerblad!L56/100","v":0},{"$f":"Invoerblad!M56/100","v":0}]
[7,{"$f":"Invoerblad!B17","v":0},{"$f":"Invoerblad!C17","v":" "},{"$f":"Invoerblad!X28","v":0},{"$f":"Invoerblad!X38","v":0},{"$f":"Invoerblad!D57","v":0},{"$f":"Invoerblad!E57","v":0},{"$f":"Invoerblad!F57","v":0},{"$f":"Invoerblad!H57","v":0},{"$f":"Invoerblad!G57","v":{"$error":"#DIV/0!"}},{"$f":"Invoerblad!I57/100","v":{"$error":"#DIV/0!"}},{"$f":"Invoerblad!J57/100","v":0},{"$f":"Invoerblad!K57/100","v":0},{"$f":"Invoerblad!L57/100","v":0},{"$f":"Invoerblad!M57/100","v":0}]
[]
[null,null,null,"Naam locatie",null,null,null,"Datum"]
[null,null,null,{"$f":"Invoerblad!G4","v":0},null,null,null,{"$f":"TODAY()","v":"2023-11-14"}]
[]
["DIT FORMULIER DUIDELIJK INGEVULD EN VOORZIEN VAN DE HANDTEKENING "]
[]
["VAN EEN LID VAN DE ORGANISERENDE VERENIGING           BINNEN 3 DAGEN "]
[]
["NA AFLOOP VAN DE VOORWEDSTRIJDEN TOEZENDEN OF MAILEN AAN:  "]
[]
["﻿ "]
["Met vriendelijke groet"]
["Wedstrijdleider PK  Libre en Bandstoten",null,null,null,null,null,null,null,null,"handtekening:"]
[null,null,null,null,null,null,null,null,null,{"$f":"Invoerblad!G5","v":0}]
["Johan Jansink"]
["Veemarkt 11"]
["7121 AH  Aalten"]
["Tel: 0543-472292 / 06-40263789"]
["E-mail: j.jansink2016@gmail.com"]
[]
[]
[]
[]
[]
[]
[]
[]
[]
[]
[]
[]
[]
[]
[]
[]
[]
[]
[]
[]
[]
[]
[]
[]
[]
[]
[]
[]
[]
[]
[]
[]
[]
[]
[]
[]
[]
[]
[]
[]
[]
[]
[]
[]
[]
[]
[]
[]
[]
[]
[]
[]
[]
[]
[]
[]
[]
[]
[]
[]
[]
[]
[]
[]
[]
[]
[null,"made by Marco Ubbink"]